BEGIN:VCALENDAR
VERSION:2.0
PRODID:-//Squarespace Inc/Squarespace 6//v6//EN
BEGIN:VEVENT
UID:5b62d93788251bd3c4fc081b@squarespace.com
DTSTAMP:20180808T100242Z
DTSTART:20180907T070000Z
DTEND:20180909T070000Z
SUMMARY:Senior End of Season Road Trip
END:VEVENT
END:VCALENDAR
