BEGIN:VCALENDAR
VERSION:2.0
PRODID:-//Squarespace Inc/Squarespace 6//v6//EN
BEGIN:VEVENT
UID:5b62cc33562fa7251863cccf@squarespace.com
DTSTAMP:20180902T001943Z
DTSTART:20180902T020000Z
DTEND:20180902T040000Z
SUMMARY:JUNIOR PRIZE GIVING & WIND-UP 2018!
GEO:-43.377758;172.655277
LOCATION:Kaiapoi Park\, Smith Street\, Kaiapoi\, Canterbury\, 7630\, New Ze
 aland
END:VEVENT
END:VCALENDAR
