BEGIN:VCALENDAR
VERSION:2.0
PRODID:-//Squarespace Inc/Squarespace 6//v6//EN
BEGIN:VEVENT
UID:5b62d8a6352f53e99ff4ea23@squarespace.com
DTSTAMP:20180802T102022Z
DTSTART:20180831T063000Z
DTEND:20180831T093000Z
SUMMARY:SENIOR PRIZE GIVING & WIND-UP 2018!
GEO:-43.385251;172.657216
LOCATION:CBK Craft Bar and Kitchen\, Kaiapoi\, 77 Hilton Street\, Kaiapoi\, 
 Canterbury\, 7630\, New Zealand
END:VEVENT
END:VCALENDAR
