BEGIN:VCALENDAR
VERSION:2.0
PRODID:-//Squarespace Inc/Squarespace 6//v6//EN
BEGIN:VEVENT
UID:5b432560aa4a99250c2e3f56@squarespace.com
DTSTAMP:20180709T090813Z
DTSTART:20180722T030000Z
DTEND:20180722T040000Z
SUMMARY:HKHC Quiz Fundraiser
GEO:-43.385251;172.657216
LOCATION:CBK Craft Bar and Kitchen Kaiapoi\, 77 Hilton Street\, Kaiapoi\, N
 ew Zealand
END:VEVENT
END:VCALENDAR
