BEGIN:VCALENDAR
VERSION:2.0
PRODID:-//Squarespace Inc/Squarespace 6//v6//EN
BEGIN:VEVENT
UID:5a834c46ec212d744e78e84e@squarespace.com
DTSTAMP:20180213T204006Z
DTSTART:20180303T210000Z
DTEND:20180303T220000Z
SUMMARY:2018 AGM - Hinemoa Kaiapoi Hockey Club
GEO:-43.377718;172.655063
LOCATION:HKHC Clubhouse\, Smith Street\, Kaiapoi\, Canterbury\, 7630\, New 
 Zealand
END:VEVENT
END:VCALENDAR
