BEGIN:VCALENDAR
VERSION:2.0
PRODID:-//Squarespace Inc/Squarespace 6//v6//EN
BEGIN:VEVENT
UID:5a925d0241920295934a23bf@squarespace.com
DTSTAMP:20180314T031655Z
DTSTART:20180315T200000Z
DTEND:20180317T080000Z
SUMMARY:SOUTH ISLAND SUPER 6!
GEO:-43.483142;172.569891
LOCATION:Nunweek Park
END:VEVENT
END:VCALENDAR
