BEGIN:VCALENDAR
VERSION:2.0
PRODID:-//Squarespace Inc/Squarespace 6//v6//EN
BEGIN:VEVENT
UID:5a925bf6652dea92f9c48f51@squarespace.com
DTSTAMP:20180225T065031Z
DTSTART:20180310T210000Z
DTEND:20180324T220000Z
SUMMARY:Preseason Skills and Hit Out - Give Hockey a Go!
GEO:-43.387922;172.64578
LOCATION:Kaiapoi North High School Mini Turf\, 101 Ohoka Road\, Kaiapoi\, C
 anterbury\, 7630\, New Zealand
END:VEVENT
END:VCALENDAR
