BEGIN:VCALENDAR
VERSION:2.0
PRODID:-//Squarespace Inc/Squarespace 6//v6//EN
BEGIN:VEVENT
UID:5a925aa4419202959349e338@squarespace.com
DTSTAMP:20180225T064511Z
DTSTART:20180310T003000Z
DTEND:20180310T030000Z
SUMMARY:Hinemoa-Kaiapoi V Rangiora Hockey Club's Annual Derby Games
GEO:-43.28955;172.614703
LOCATION:Waimakariri Hockey Turf\, Coldstream Road\, Rangiora\, Canterbury\
 , New Zealand
END:VEVENT
END:VCALENDAR
