BEGIN:VCALENDAR
VERSION:2.0
PRODID:-//Squarespace Inc/Squarespace 6//v6//EN
BEGIN:VEVENT
UID:595d7fedb11be1a7e582bf61@squarespace.com
DTSTAMP:20170706T003144Z
DTSTART:20170908T050000Z
DTEND:20170910T050000Z
SUMMARY:West Coast Trip 2017
GEO:-41.754522;171.60589
LOCATION:Westport\, New Zealand
END:VEVENT
END:VCALENDAR
