BEGIN:VCALENDAR
VERSION:2.0
PRODID:-//Squarespace Inc/Squarespace 6//v6//EN
BEGIN:VEVENT
UID:59826391a803bb7e1ee5e64a@squarespace.com
DTSTAMP:20170803T004423Z
DTSTART:20170901T070000Z
DTEND:20170901T100000Z
SUMMARY:Senior Prize Giving and Wind-up!
GEO:-43.385251;172.657216
LOCATION:CBK Craft Bar & Restaurant\, 4/77 Hilton Street\, Kaiapoi\, Canter
 bury\, 7630\, New Zealand
END:VEVENT
END:VCALENDAR
