BEGIN:VCALENDAR
VERSION:2.0
PRODID:-//Squarespace Inc/Squarespace 6//v6//EN
BEGIN:VEVENT
UID:598270bf15d5dbefdf12f62a@squarespace.com
DTSTAMP:20170808T022345Z
DTSTART:20170827T020000Z
DTEND:20170827T040000Z
SUMMARY:Kids Prize Giving and Wind-up!
END:VEVENT
END:VCALENDAR
