BEGIN:VCALENDAR
VERSION:2.0
PRODID:-//Squarespace Inc/Squarespace 6//v6//EN
BEGIN:VEVENT
UID:595d813044024313332b1648@squarespace.com
DTSTAMP:20170706T003115Z
DTSTART:20170723T030000Z
DTEND:20170723T053000Z
SUMMARY:HKHC QUIZ FUNDRAISER
GEO:-43.385251;172.657216
LOCATION:CBK Bar and Restaurant\, 77 Hilton Street\, Kaiapoi\, Canterbury\, 
 7630\, New Zealand
END:VEVENT
END:VCALENDAR
