BEGIN:VCALENDAR
VERSION:2.0
PRODID:-//Squarespace Inc/Squarespace 6//v6//EN
BEGIN:VEVENT
UID:5951c7d2ebbd1ae9dcd5423a@squarespace.com
DTSTAMP:20180123T041648Z
DTSTART:20180414T210000Z
DTEND:20180422T060000Z
SUMMARY:Golden Oldies World Hockey Festival
GEO:-43.532054;172.636225
LOCATION:Christchurch\, New Zealand
END:VEVENT
END:VCALENDAR
