BEGIN:VCALENDAR
VERSION:2.0
PRODID:-//Squarespace Inc/Squarespace 6//v6//EN
BEGIN:VEVENT
UID:590c3a1d8419c23de277a771@squarespace.com
DTSTAMP:20170505T084229Z
DTSTART:20170519T070000Z
DTEND:20170519T110000Z
SUMMARY:SENIOR SOCIAL GATHERING
GEO:-43.385251;172.657216
LOCATION:CBK Bar Kaiapoi\, 77 Hilton Street\, Kaiapoi\, Canterbury\, 7630\, 
 New Zealand
END:VEVENT
END:VCALENDAR
