BEGIN:VCALENDAR
VERSION:2.0
PRODID:-//Squarespace Inc/Squarespace 6//v6//EN
BEGIN:VEVENT
UID:5900685c414fb5642bed371d@squarespace.com
DTSTAMP:20170428T214240Z
DTSTART:20170514T043000Z
DTEND:20170514T060000Z
SUMMARY:Meeting with Members of the Strategy Delivery Review Working Group 
END:VEVENT
END:VCALENDAR
