BEGIN:VCALENDAR
VERSION:2.0
PRODID:-//Squarespace Inc/Squarespace 6//v6//EN
BEGIN:VEVENT
UID:59002d026a49636802abc82b@squarespace.com
DTSTAMP:20170426T063952Z
DTSTART:20170429T210000Z
DTEND:20170429T220000Z
SUMMARY:HOCKEY HOUR - Stirling Sports Rangiora
GEO:-43.303625;172.594528
LOCATION:Stirling Sports\, 135 High Street\, Rangiora\, Canterbury\, 7400\, 
 New Zealand
END:VEVENT
END:VCALENDAR
