BEGIN:VCALENDAR
VERSION:2.0
PRODID:-//Squarespace Inc/Squarespace 6//v6//EN
BEGIN:VEVENT
UID:58c79c20d482e9a66b49eefb@squarespace.com
DTSTAMP:20170314T073317Z
DTSTART:20170317T063000Z
DTEND:20170318T073000Z
SUMMARY:South Island Super 6 Tournament
GEO:-43.482335;172.574232
LOCATION:Nunweek Boulevard\, Christchurch\, Canterbury\, 8051\, New Zealand
END:VEVENT
END:VCALENDAR
