BEGIN:VCALENDAR
VERSION:2.0
PRODID:-//Squarespace Inc/Squarespace 6//v6//EN
BEGIN:VEVENT
UID:5894370d1b10e322367c5bde@squarespace.com
DTSTAMP:20170203T080633Z
DTSTART:20170211T210000Z
DTEND:20170211T213000Z
SUMMARY:Club Registration Day
GEO:-43.377796;172.655474
LOCATION:Kaiapoi Park\, Smith Street\, Kaiapoi\, Canterbury\, 7630\, New Ze
 aland
END:VEVENT
END:VCALENDAR
