BEGIN:VCALENDAR
VERSION:2.0
PRODID:-//Squarespace Inc/Squarespace 6//v6//EN
BEGIN:VEVENT
UID:58af4dbb59cc68a3f8967664@squarespace.com
DTSTAMP:20170301T012820Z
DTSTART:20170324T203000Z
DTEND:20170326T083000Z
SUMMARY:Black Sticks to Waimakariri Turf!
GEO:-44.079888;171.53798
LOCATION:Waimakariri Hockey Turf\, Coldstream Road\, Canterbury\, New Zeala
 nd
END:VEVENT
END:VCALENDAR
