BEGIN:VCALENDAR
VERSION:2.0
PRODID:-//Squarespace Inc/Squarespace 6//v6//EN
BEGIN:VEVENT
UID:58943a18db29d6ce151ce3c8@squarespace.com
DTSTAMP:20170223T205341Z
DTSTART:20170218T220000Z
DTEND:20170219T023000Z
SUMMARY:Waimakariri Hockey Turf Opening
GEO:-43.291401;172.600995
LOCATION:Waimakariri Hockey Turf\, 291 Coldstream Road\, Rangiora\, Canterb
 ury\, 7473\, New Zealand
END:VEVENT
END:VCALENDAR
