BEGIN:VCALENDAR
VERSION:2.0
PRODID:-//Squarespace Inc/Squarespace 6//v6//EN
BEGIN:VEVENT
UID:58943925a5790a9b3a99399f@squarespace.com
DTSTAMP:20170203T080538Z
DTSTART:20170211T214500Z
DTEND:20170211T224500Z
SUMMARY:Hinemoa-Kaiapoi Hockey Club AGM
GEO:-43.377796;172.655474
LOCATION:Kaiapoi Park\, Smith Street\, Kaiapoi\, Canterbury\, 7630\, New Ze
 aland
END:VEVENT
END:VCALENDAR
