BEGIN:VCALENDAR
VERSION:2.0
PRODID:-//Squarespace Inc/Squarespace 6//v6//EN
BEGIN:VEVENT
UID:5951c2ee17bffc9ea9883636@squarespace.com
DTSTAMP:20170627T023236Z
DTSTART:20171026T200000Z
DTEND:20171029T050000Z
SUMMARY:South Island Hockey Masters Tourney 2017
GEO:-41.518985;173.960708
LOCATION:Marlborough Hockey\, Stephenson Street\, Blenheim\, Marlborough\, 
 7201\, New Zealand
END:VEVENT
END:VCALENDAR
