BEGIN:VCALENDAR
VERSION:2.0
PRODID:-//Squarespace Inc/Squarespace 6//v6//EN
BEGIN:VEVENT
UID:59c9c4a8c027d8b4829ff39b@squarespace.com
DTSTAMP:20180123T041934Z
DTSTART:20171016T033000Z
DTEND:20171211T043000Z
SUMMARY:WAIMAK SUMMER SOCIAL HOCKEY 
GEO:-44.079888;171.53798
LOCATION:Waimak Hockey Turf\, Coldstream Road\, Canterbury\, New Zealand
END:VEVENT
END:VCALENDAR
