BEGIN:VCALENDAR
VERSION:2.0
PRODID:-//Squarespace Inc/Squarespace 6//v6//EN
BEGIN:VEVENT
UID:5a66b75d419202ba47d05622@squarespace.com
DTSTAMP:20180225T064556Z
DTSTART:20180131T033000Z
DTEND:20180201T043000Z
SUMMARY:Copy of WAIMAK SUMMER SOCIAL HOCKEY 
GEO:-44.079888;171.53798
LOCATION:Waimak Hockey Turf\, Coldstream Road\, Canterbury\, New Zealand
END:VEVENT
END:VCALENDAR
