BEGIN:VCALENDAR
VERSION:2.0
PRODID:-//Squarespace Inc/Squarespace 6//v6//EN
BEGIN:VEVENT
UID:57b3fe3cd482e95de31e7690@squarespace.com
DTSTAMP:20160817T060925Z
DTSTART:20160903T070000Z
DTEND:20160903T115900Z
SUMMARY:120th Anniversary Celebration
END:VEVENT
END:VCALENDAR
