BEGIN:VCALENDAR
VERSION:2.0
PRODID:-//Squarespace Inc/Squarespace 6//v6//EN
BEGIN:VEVENT
UID:57b3ffc8c534a5fd32f26392@squarespace.com
DTSTAMP:20160817T061420Z
DTSTART:20160909T190000Z
DTEND:20160911T090000Z
SUMMARY:WEST COAST TRIP!
END:VEVENT
END:VCALENDAR
