BEGIN:VCALENDAR
VERSION:2.0
PRODID:-//Squarespace Inc/Squarespace 6//v6//EN
BEGIN:VEVENT
UID:57b3fbd73e00bede004344dd@squarespace.com
DTSTAMP:20160817T060007Z
DTSTART:20160828T020000Z
DTEND:20160828T050000Z
SUMMARY:Junior Prize Giving and Wind-Up!
END:VEVENT
END:VCALENDAR
