BEGIN:VCALENDAR
VERSION:2.0
PRODID:-//Squarespace Inc/Squarespace 6//v6//EN
BEGIN:VEVENT
UID:56fb4a659f7266cd09af2241@squarespace.com
DTSTAMP:20160330T034020Z
DTSTART:20160408T210000Z
DTEND:20160408T220000Z
SUMMARY:Grass ladies games start.
END:VEVENT
END:VCALENDAR
