BEGIN:VCALENDAR
VERSION:2.0
PRODID:-//Squarespace Inc/Squarespace 6//v6//EN
BEGIN:VEVENT
UID:56fb4a32f8508278fbc330cd@squarespace.com
DTSTAMP:20160330T033903Z
DTSTART:20160405T050000Z
DTEND:20160405T100000Z
SUMMARY:Ladies' Mid Week Open games start.
END:VEVENT
END:VCALENDAR
