BEGIN:VCALENDAR
VERSION:2.0
PRODID:-//Squarespace Inc/Squarespace 6//v6//EN
BEGIN:VEVENT
UID:56fb49a7c2ea51c7420634e9@squarespace.com
DTSTAMP:20160330T033815Z
DTSTART:20160404T050000Z
DTEND:20160404T100000Z
SUMMARY:Men's open games start.
END:VEVENT
END:VCALENDAR
