BEGIN:VCALENDAR
VERSION:2.0
PRODID:-//Squarespace Inc/Squarespace 6//v6//EN
BEGIN:VEVENT
UID:56fb48dfcf80a1c5c8cf1e9b@squarespace.com
DTSTAMP:20160330T034156Z
DTSTART:20160429T210000Z
DTEND:20160819T220000Z
SUMMARY:6 aside and all year 8 and under team games start
END:VEVENT
END:VCALENDAR
