BEGIN:VCALENDAR
VERSION:2.0
PRODID:-//Squarespace Inc/Squarespace 6//v6//EN
BEGIN:VEVENT
UID:56a07b07df40f35fbb76c205@squarespace.com
DTSTAMP:20160121T064538Z
DTSTART:20160214T020000Z
DTEND:20160214T023000Z
SUMMARY:2016 Registration Day
END:VEVENT
END:VCALENDAR
