BEGIN:VCALENDAR
VERSION:2.0
PRODID:-//Squarespace Inc/Squarespace 6//v6//EN
BEGIN:VEVENT
UID:5518faafe4b017e0133e3c4d@squarespace.com
DTSTAMP:20150330T074441Z
DTSTART:20150420T083000Z
DTEND:20150515T093000Z
SUMMARY:Players needed
END:VEVENT
END:VCALENDAR
