BEGIN:VCALENDAR
VERSION:2.0
PRODID:-//Squarespace Inc/Squarespace 6//v6//EN
BEGIN:VEVENT
UID:54dabdb0e4b0c0e0859e6137@squarespace.com
DTSTAMP:20150211T052013Z
DTSTART:20150222T030000Z
DTEND:20150222T050000Z
SUMMARY:2015 AGM
END:VEVENT
END:VCALENDAR
